BEGIN:VCALENDAR
VERSION:2.0
PRODID:-//Sales Assembly - ECPv6.15.18//NONSGML v1.0//EN
CALSCALE:GREGORIAN
METHOD:PUBLISH
X-WR-CALNAME:Sales Assembly
X-ORIGINAL-URL:https://members.salesassembly.com
X-WR-CALDESC:Events for Sales Assembly
REFRESH-INTERVAL;VALUE=DURATION:PT1H
X-Robots-Tag:noindex
X-PUBLISHED-TTL:PT1H
BEGIN:VTIMEZONE
TZID:America/Chicago
BEGIN:DAYLIGHT
TZOFFSETFROM:-0600
TZOFFSETTO:-0500
TZNAME:CDT
DTSTART:20250309T080000
END:DAYLIGHT
BEGIN:STANDARD
TZOFFSETFROM:-0500
TZOFFSETTO:-0600
TZNAME:CST
DTSTART:20251102T070000
END:STANDARD
BEGIN:DAYLIGHT
TZOFFSETFROM:-0600
TZOFFSETTO:-0500
TZNAME:CDT
DTSTART:20260308T080000
END:DAYLIGHT
BEGIN:STANDARD
TZOFFSETFROM:-0500
TZOFFSETTO:-0600
TZNAME:CST
DTSTART:20261101T070000
END:STANDARD
BEGIN:DAYLIGHT
TZOFFSETFROM:-0600
TZOFFSETTO:-0500
TZNAME:CDT
DTSTART:20270314T080000
END:DAYLIGHT
BEGIN:STANDARD
TZOFFSETFROM:-0500
TZOFFSETTO:-0600
TZNAME:CST
DTSTART:20271107T070000
END:STANDARD
END:VTIMEZONE
BEGIN:VEVENT
DTSTART;TZID=America/Chicago:20260422T110000
DTEND;TZID=America/Chicago:20260422T115000
DTSTAMP:20260422T033530
CREATED:20250923T121322Z
LAST-MODIFIED:20251111T200759Z
UID:10002242-1776855600-1776858600@members.salesassembly.com
SUMMARY:Proactive Expectation Management
DESCRIPTION:PROGRAM DESCRIPTION \n\n\n\nJoin Sales Assembly and Tracie Dempsey\, VP of Customer Operations and Strategy at Suzy\, for this program titled Proactive Expectation Management – part of the Conflict Resolution skill certification.    \n\n\n\nThis program focuses on preventing conflict by setting and maintaining clear expectations across the customer lifecycle. Participants learn proactive communication frameworks to surface friction points\, align on outcomes\, and create predictability. The emphasis is on building credibility and minimizing downstream risk through consistency. \n\n\n\nThis program helps participants strengthen one of the key drivers of revenue growth – retaining and/or expanding existing customer revenue. \n\n\n\nGENERAL PROGRAM INFO \n\n\n\nNew for 2026: This program has been developed by one of our Executives-in-Residence (in collaboration with Sales Assembly)\, meaning new content and takeaways. Even if you’ve completed this program in past years\, if you decide to take this program again in 2026 you’ll gain fresh insights and strategies. \n\n\n\nThe content of this\, and all of our programs\, is designed around specific elements\, frameworks and strategies needed to build proficiency within the skill. \n\n\n\nTo earn your certification for this skill\, you must complete all required live programs and fulfill participation requirements (you must be live on the zoom for at least 40 minutes). Programs can be completed in any order and at your own pace\, offering flexibility to fit your schedule. \n\n\n\nADDITIONAL INFO TO KNOW \n\n\n\nThis program is open to all employees of Sales Assembly member companies. You must be logged into your Sales Assembly account to RSVP for this program. If you need help logging in or need help setting up your account\, please email support@salesassembly.com. \n\n\n\nAll registrants of this program comply with our Terms and Conditions.
URL:https://members.salesassembly.com/member-event/proactive-expectation-management/
CATEGORIES:Certifications
ATTACH;FMTTYPE=image/png:https://members.salesassembly.com/wp-content/uploads/2025/09/Conflict-Resolution_-Proactive-Expectation-Management.png
LOCATION:https://members.salesassembly.com/member-event/proactive-expectation-management/
END:VEVENT
BEGIN:VEVENT
DTSTART;TZID=America/Chicago:20260423T100000
DTEND;TZID=America/Chicago:20260423T105000
DTSTAMP:20260422T033530
CREATED:20250923T121322Z
LAST-MODIFIED:20260323T162753Z
UID:10002396-1776938400-1776941400@members.salesassembly.com
SUMMARY:Executive Revenue Leaders Peer Group
DESCRIPTION:PROGRAM DESCRIPTION \n\n\n\nThis program is a Peer Group.  All Peer Groups within Sales Assembly are gatherings of individuals who serve in similar roles within a revenue organization. The purpose of these groups is to efficiently and effectively solve problems\, get answers\, and share advice / resources with peers. Join this group if you’re interested in sharing insights\, brainstorming strategies\, and navigating challenges amongst a group of people who intimately understand your world! \n\n\n\nADDITIONAL INFO TO KNOW \n\n\n\nThis program is open to all employees of Sales Assembly member companies. You must be logged into your Sales Assembly account to RSVP for this program. If you need help logging in or need help setting up your account\, please email support@salesassembly.com. All registrants of this program comply with our Terms and Conditions.
URL:https://members.salesassembly.com/member-event/executive-revenue-leaders-peer-group-4/
CATEGORIES:Strategy Peer Groups
ATTACH;FMTTYPE=image/png:https://members.salesassembly.com/wp-content/uploads/2025/09/Executive-Revenue-Leaders-Peer-Group.png
LOCATION:https://members.salesassembly.com/member-event/executive-revenue-leaders-peer-group-4/
END:VEVENT
BEGIN:VEVENT
DTSTART;TZID=America/Chicago:20260423T110000
DTEND;TZID=America/Chicago:20260423T115000
DTSTAMP:20260422T033530
CREATED:20250923T121322Z
LAST-MODIFIED:20251111T140421Z
UID:10002398-1776942000-1776945000@members.salesassembly.com
SUMMARY:Revenue Enablement Peer Group
DESCRIPTION:PROGRAM DESCRIPTION \n\n\n\nThis program is a Peer Group.  All Peer Groups within Sales Assembly are gatherings of individuals who serve in similar roles within a revenue organization. The purpose of these groups is to efficiently and effectively solve problems\, get answers\, and share advice / resources with peers. Join this group if you’re interested in sharing insights\, brainstorming strategies\, and navigating challenges amongst a group of people who intimately understand your world! \n\n\n\nADDITIONAL INFO TO KNOW \n\n\n\nThis program is open to all employees of Sales Assembly member companies. You must be logged into your Sales Assembly account to RSVP for this program. If you need help logging in or need help setting up your account\, please email support@salesassembly.com. All registrants of this program comply with our Terms and Conditions.
URL:https://members.salesassembly.com/member-event/revenue-enablement-peer-group-28/
CATEGORIES:Strategy Peer Groups
ATTACH;FMTTYPE=image/png:https://members.salesassembly.com/wp-content/uploads/2025/09/Revenue-Enablement-Peer-Group.png
LOCATION:https://members.salesassembly.com/member-event/revenue-enablement-peer-group-28/
END:VEVENT
BEGIN:VEVENT
DTSTART;TZID=America/Chicago:20260429T100000
DTEND;TZID=America/Chicago:20260429T105000
DTSTAMP:20260422T033530
CREATED:20250923T121322Z
LAST-MODIFIED:20260330T172716Z
UID:10002365-1777456800-1777459800@members.salesassembly.com
SUMMARY:Anatomy of Effective Cold Email and Social Outreach
DESCRIPTION:PROGRAM DESCRIPTION \n\n\n\nJoin Sales Assembly and Morgan Ingram\, Founder and CEO of AMP Social\, for this program titled Anatomy of Effective Cold Email and Social Outreach – part of the Prospecting skill certification.    \n\n\n\nThis program focuses on the core elements of outreach that capture attention and drive replies. Participants learn how to craft compelling subject lines\, structure messages for readability\, and apply strategies for LinkedIn and other platforms. The emphasis is on building visibility and engagement through credible communication. \n\n\n\nThis program helps participants strengthen one of the key drivers of revenue growth – building qualified pipeline. \n\n\n\nGENERAL PROGRAM INFO \n\n\n\nNew for 2026: This program has been developed by one of our Executives-in-Residence (in collaboration with Sales Assembly)\, meaning new content and takeaways. Even if you’ve completed this program in past years\, if you decide to take this program again in 2026 you’ll gain fresh insights and strategies. \n\n\n\nThe content of this\, and all of our programs\, is designed around specific elements\, frameworks and strategies needed to build proficiency within the skill. \n\n\n\nTo earn your certification for this skill\, you must complete all required live programs and fulfill participation requirements (you must be live on the zoom for at least 40 minutes). Programs can be completed in any order and at your own pace\, offering flexibility to fit your schedule. \n\n\n\nADDITIONAL INFO TO KNOW \n\n\n\nThis program is open to all employees of Sales Assembly member companies. You must be logged into your Sales Assembly account to RSVP for this program. If you need help logging in or need help setting up your account\, please email support@salesassembly.com. \n\n\n\nAll registrants of this program comply with our Terms and Conditions.
URL:https://members.salesassembly.com/member-event/anatomy-of-effective-cold-email-and-social-outreach-9/
CATEGORIES:Certifications
ATTACH;FMTTYPE=image/png:https://members.salesassembly.com/wp-content/uploads/2025/09/Prospecting_-Anatomy-of-Effective-Cold-Email-and-Social-Outreach-2.png
LOCATION:https://members.salesassembly.com/member-event/anatomy-of-effective-cold-email-and-social-outreach-9/
END:VEVENT
BEGIN:VEVENT
DTSTART;TZID=America/Chicago:20260429T110000
DTEND;TZID=America/Chicago:20260429T115000
DTSTAMP:20260422T033530
CREATED:20250923T121322Z
LAST-MODIFIED:20260330T173341Z
UID:10002367-1777460400-1777463400@members.salesassembly.com
SUMMARY:Creating Awareness
DESCRIPTION:PROGRAM DESCRIPTION \n\n\n\nJoin Sales Assembly and Morgan Ingram\, Founder and CEO of AMP Social\, for this program titled Creating Awareness – part of the Prospecting skill certification.    \n\n\n\nThis program focuses on the core elements of outreach that capture attention and drive replies. Participants learn how to craft compelling subject lines\, structure messages for readability\, and apply strategies for LinkedIn and other platforms. The emphasis is on building visibility and engagement through credible communication. \n\n\n\nThis program helps participants strengthen one of the key drivers of revenue growth – building qualified pipeline. \n\n\n\nGENERAL PROGRAM INFO \n\n\n\nNew for 2026: This program has been developed by one of our Executives-in-Residence (in collaboration with Sales Assembly)\, meaning new content and takeaways. Even if you’ve completed this program in past years\, if you decide to take this program again in 2026 you’ll gain fresh insights and strategies. \n\n\n\nThe content of this\, and all of our programs\, is designed around specific elements\, frameworks and strategies needed to build proficiency within the skill. \n\n\n\nTo earn your certification for this skill\, you must complete all required live programs and fulfill participation requirements (you must be live on the zoom for at least 40 minutes). Programs can be completed in any order and at your own pace\, offering flexibility to fit your schedule. \n\n\n\nADDITIONAL INFO TO KNOW \n\n\n\nThis program is open to all employees of Sales Assembly member companies. You must be logged into your Sales Assembly account to RSVP for this program. If you need help logging in or need help setting up your account\, please email support@salesassembly.com. \n\n\n\nAll registrants of this program comply with our Terms and Conditions.
URL:https://members.salesassembly.com/member-event/creating-awareness-2/
CATEGORIES:Certifications
ATTACH;FMTTYPE=image/png:https://members.salesassembly.com/wp-content/uploads/2025/09/Prospecting_-Creating-Awareness-2.png
LOCATION:https://members.salesassembly.com/member-event/creating-awareness-2/
END:VEVENT
END:VCALENDAR