BEGIN:VCALENDAR
VERSION:2.0
PRODID:-//Sales Assembly - ECPv6.15.18//NONSGML v1.0//EN
CALSCALE:GREGORIAN
METHOD:PUBLISH
X-WR-CALNAME:Sales Assembly
X-ORIGINAL-URL:https://members.salesassembly.com
X-WR-CALDESC:Events for Sales Assembly
REFRESH-INTERVAL;VALUE=DURATION:PT1H
X-Robots-Tag:noindex
X-PUBLISHED-TTL:PT1H
BEGIN:VTIMEZONE
TZID:America/Chicago
BEGIN:DAYLIGHT
TZOFFSETFROM:-0600
TZOFFSETTO:-0500
TZNAME:CDT
DTSTART:20250309T080000
END:DAYLIGHT
BEGIN:STANDARD
TZOFFSETFROM:-0500
TZOFFSETTO:-0600
TZNAME:CST
DTSTART:20251102T070000
END:STANDARD
BEGIN:DAYLIGHT
TZOFFSETFROM:-0600
TZOFFSETTO:-0500
TZNAME:CDT
DTSTART:20260308T080000
END:DAYLIGHT
BEGIN:STANDARD
TZOFFSETFROM:-0500
TZOFFSETTO:-0600
TZNAME:CST
DTSTART:20261101T070000
END:STANDARD
BEGIN:DAYLIGHT
TZOFFSETFROM:-0600
TZOFFSETTO:-0500
TZNAME:CDT
DTSTART:20270314T080000
END:DAYLIGHT
BEGIN:STANDARD
TZOFFSETFROM:-0500
TZOFFSETTO:-0600
TZNAME:CST
DTSTART:20271107T070000
END:STANDARD
END:VTIMEZONE
BEGIN:VEVENT
DTSTART;TZID=America/Chicago:20260311T120000
DTEND;TZID=America/Chicago:20260311T125000
DTSTAMP:20260421T115635
CREATED:20250923T121236Z
LAST-MODIFIED:20251111T162908Z
UID:10002338-1773230400-1773233400@members.salesassembly.com
SUMMARY:Effective Demo Strategies
DESCRIPTION:PROGRAM DESCRIPTION \n\n\n\nJoin Sales Assembly and Mark Smyth\, Founder and Chief Story Mixologist at Story Dynamix\, for this program titled Effective Demo Strategies – part of the Value Articulation skill certification.    \n\n\n\nParticipants learn how to execute demos that highlight value\, not just functionality. The session covers pre-demo discovery alignment\, crafting a storyline that matches buyer needs\, and post-demo follow-up that reinforces key takeaways and builds momentum toward a decision. \n\n\n\nThis program helps participants strengthen one of the key drivers of revenue growth – improving deal velocity and win rates. \n\n\n\nGENERAL PROGRAM INFO \n\n\n\nNew for 2026: This program has been developed by one of our Executives-in-Residence (in collaboration with Sales Assembly)\, meaning new content and takeaways. Even if you’ve completed this program in past years\, if you decide to take this program again in 2026 you’ll gain fresh insights and strategies. \n\n\n\nThe content of this\, and all of our programs\, is designed around specific elements\, frameworks and strategies needed to build proficiency within the skill. \n\n\n\nTo earn your certification for this skill\, you must complete all required live programs and fulfill participation requirements (you must be live on the zoom for at least 40 minutes). Programs can be completed in any order and at your own pace\, offering flexibility to fit your schedule. \n\n\n\nADDITIONAL INFO TO KNOW \n\n\n\nThis program is open to all employees of Sales Assembly member companies. You must be logged into your Sales Assembly account to RSVP for this program. If you need help logging in or need help setting up your account\, please email support@salesassembly.com. \n\n\n\nAll registrants of this program comply with our Terms and Conditions.
URL:https://members.salesassembly.com/member-event/effective-demo-strategies-9/
CATEGORIES:Certifications
ATTACH;FMTTYPE=image/png:https://members.salesassembly.com/wp-content/uploads/2025/09/Value-Articulation_-Effective-Demo-Strategies.png
LOCATION:https://members.salesassembly.com/member-event/effective-demo-strategies-9/
END:VEVENT
END:VCALENDAR